BEGIN:VCALENDAR
VERSION:2.0
PRODID:-//The Shack - ECPv6.15.17//NONSGML v1.0//EN
CALSCALE:GREGORIAN
METHOD:PUBLISH
X-WR-CALNAME:The Shack
X-ORIGINAL-URL:https://www.the-shack.info
X-WR-CALDESC:Evenementen voor The Shack
REFRESH-INTERVAL;VALUE=DURATION:PT1H
X-Robots-Tag:noindex
X-PUBLISHED-TTL:PT1H
BEGIN:VTIMEZONE
TZID:Europe/Amsterdam
BEGIN:DAYLIGHT
TZOFFSETFROM:+0100
TZOFFSETTO:+0200
TZNAME:CEST
DTSTART:20250330T010000
END:DAYLIGHT
BEGIN:STANDARD
TZOFFSETFROM:+0200
TZOFFSETTO:+0100
TZNAME:CET
DTSTART:20251026T010000
END:STANDARD
BEGIN:DAYLIGHT
TZOFFSETFROM:+0100
TZOFFSETTO:+0200
TZNAME:CEST
DTSTART:20260329T010000
END:DAYLIGHT
BEGIN:STANDARD
TZOFFSETFROM:+0200
TZOFFSETTO:+0100
TZNAME:CET
DTSTART:20261025T010000
END:STANDARD
BEGIN:DAYLIGHT
TZOFFSETFROM:+0100
TZOFFSETTO:+0200
TZNAME:CEST
DTSTART:20270328T010000
END:DAYLIGHT
BEGIN:STANDARD
TZOFFSETFROM:+0200
TZOFFSETTO:+0100
TZNAME:CET
DTSTART:20271031T010000
END:STANDARD
END:VTIMEZONE
BEGIN:VEVENT
DTSTART;TZID=Europe/Amsterdam:20260208T160000
DTEND;TZID=Europe/Amsterdam:20260208T190000
DTSTAMP:20260421T113205
CREATED:20251203T100135Z
LAST-MODIFIED:20260209T071242Z
UID:3436-1770566400-1770577200@www.the-shack.info
SUMMARY:Black Crowes undercoversessie
DESCRIPTION:Als je als fan van The Black Crowes dit stel muzikanten op het podium hebt staan\, dan wordt je daar heel blij van. Een fenomenaal eerbetoon aan de band van de broertje Robinson. \nRoss Curry (Tetsuwan\, Spo-Dee-O-Dee) – gitaar en zang \nDave Rensmaag (Van Dik Hout) – gitaar \nPartrick van Herrikhuyzen ( Sjako!)– keys  \nBartel Bartels (Prof Nomad) – bas \nStephan van der Meijden (Bettie Serveert) – drums
URL:https://www.the-shack.info/agenda-e/black-crowes-undercoversessie/
ATTACH;FMTTYPE=image/jpeg:https://www.the-shack.info/wp-content/uploads/2024/11/THE-SHACK-PODIUM-2018.jpg
END:VEVENT
END:VCALENDAR