BEGIN:VCALENDAR
VERSION:2.0
PRODID:-//The Shack - ECPv6.15.17//NONSGML v1.0//EN
CALSCALE:GREGORIAN
METHOD:PUBLISH
X-WR-CALNAME:The Shack
X-ORIGINAL-URL:https://www.the-shack.info
X-WR-CALDESC:Evenementen voor The Shack
REFRESH-INTERVAL;VALUE=DURATION:PT1H
X-Robots-Tag:noindex
X-PUBLISHED-TTL:PT1H
BEGIN:VTIMEZONE
TZID:Europe/Amsterdam
BEGIN:DAYLIGHT
TZOFFSETFROM:+0100
TZOFFSETTO:+0200
TZNAME:CEST
DTSTART:20220327T010000
END:DAYLIGHT
BEGIN:STANDARD
TZOFFSETFROM:+0200
TZOFFSETTO:+0100
TZNAME:CET
DTSTART:20221030T010000
END:STANDARD
BEGIN:DAYLIGHT
TZOFFSETFROM:+0100
TZOFFSETTO:+0200
TZNAME:CEST
DTSTART:20230326T010000
END:DAYLIGHT
BEGIN:STANDARD
TZOFFSETFROM:+0200
TZOFFSETTO:+0100
TZNAME:CET
DTSTART:20231029T010000
END:STANDARD
BEGIN:DAYLIGHT
TZOFFSETFROM:+0100
TZOFFSETTO:+0200
TZNAME:CEST
DTSTART:20240331T010000
END:DAYLIGHT
BEGIN:STANDARD
TZOFFSETFROM:+0200
TZOFFSETTO:+0100
TZNAME:CET
DTSTART:20241027T010000
END:STANDARD
END:VTIMEZONE
BEGIN:VEVENT
DTSTART;TZID=Europe/Amsterdam:20230325T160000
DTEND;TZID=Europe/Amsterdam:20230325T190000
DTSTAMP:20260420T101654
CREATED:20221219T091253Z
LAST-MODIFIED:20230327T081922Z
UID:2085-1679760000-1679770800@www.the-shack.info
SUMMARY:Hilltop Howlers
DESCRIPTION:Hilltop Howlers terug op ons podium! Southern rock & soul uit de Achterhoek. \nOp een diep verscholen plek in de Achterhoek ligt de Boogie Barn\, een repetitieschuur gebouwd uit dikke veldkeien en afgepelde boomstammen. Op die Boogie Barn ligt de basis van de band Hilltop Howlers\, opgericht door Hendrik-Jan Lovink. Een band met grote voorliefde voor Southern Rock & Soul. Muzikaal gezien ergens in het grensgebied tussen The Black Crowes\, Rolling Stones en Lynyrd Skynyrd. \nAls deze band op het podium staat weet je wat je kunt verwachten; een flinke dosis energie verpakt in een ijzersterke performance en een hoog muzikaal niveau. Een dikke aanrader deze band. \nLawrence Mul; zang ( in The Shack bekend van The Doors en CCR tributes)\, Hendrik Jan Lovink op gitaar (Jovink en de Voederbietels en medeorganisator van de Zwarte Cross) Daan Boers (drums)\, Geo Wassink (toetsen)\, Joep Lankveld (bas) Pieter Holkenborg (gitaar) \n 
URL:https://www.the-shack.info/agenda-e/hilltop-howlers/
ATTACH;FMTTYPE=image/jpeg:https://www.the-shack.info/wp-content/uploads/2022/12/Hilltop-Howlers-3-2023.jpg
END:VEVENT
END:VCALENDAR