BEGIN:VCALENDAR
VERSION:2.0
PRODID:-//The Shack - ECPv6.15.17//NONSGML v1.0//EN
CALSCALE:GREGORIAN
METHOD:PUBLISH
X-WR-CALNAME:The Shack
X-ORIGINAL-URL:https://www.the-shack.info
X-WR-CALDESC:Evenementen voor The Shack
REFRESH-INTERVAL;VALUE=DURATION:PT1H
X-Robots-Tag:noindex
X-PUBLISHED-TTL:PT1H
BEGIN:VTIMEZONE
TZID:Europe/Amsterdam
BEGIN:DAYLIGHT
TZOFFSETFROM:+0100
TZOFFSETTO:+0200
TZNAME:CEST
DTSTART:20200329T010000
END:DAYLIGHT
BEGIN:STANDARD
TZOFFSETFROM:+0200
TZOFFSETTO:+0100
TZNAME:CET
DTSTART:20201025T010000
END:STANDARD
BEGIN:DAYLIGHT
TZOFFSETFROM:+0100
TZOFFSETTO:+0200
TZNAME:CEST
DTSTART:20210328T010000
END:DAYLIGHT
BEGIN:STANDARD
TZOFFSETFROM:+0200
TZOFFSETTO:+0100
TZNAME:CET
DTSTART:20211031T010000
END:STANDARD
BEGIN:DAYLIGHT
TZOFFSETFROM:+0100
TZOFFSETTO:+0200
TZNAME:CEST
DTSTART:20220327T010000
END:DAYLIGHT
BEGIN:STANDARD
TZOFFSETFROM:+0200
TZOFFSETTO:+0100
TZNAME:CET
DTSTART:20221030T010000
END:STANDARD
END:VTIMEZONE
BEGIN:VEVENT
DTSTART;TZID=Europe/Amsterdam:20210815T160000
DTEND;TZID=Europe/Amsterdam:20210815T190000
DTSTAMP:20260423T010704
CREATED:20210608T075347Z
LAST-MODIFIED:20220601T103938Z
UID:987-1629043200-1629054000@www.the-shack.info
SUMMARY:The Story of David Bowie - Alexander Broussard ft. Rias Baarda
DESCRIPTION:In deze unieke voorstelling neemt voorman (en verhalenverteller pur sang) Alexander Broussard je mee in een reis door de prachtige muziek\, de indrukwekkende carrière en het imposante oeuvre van David Bowie. Wat maakte de muziek van Bowie zo onweerstaanbaar?\nVoor deze “masterclass” neemt Alexander een fantastische zanger mee; Rias Baarda aangevuld met een extra instrumentalist. \nEn zo wordt het een unieke muzikale beleving van het hoogste niveau.\nRias Baarda wordt natuurlijk vakkundig begeleid door Alexander zelf achter de toetsen\, Alexander (bekend van Najib Amhali’s PlusSupportAct\, The Billy Joel Experience\, The Crazy Piano’s\, De Corona’s e.v.a.) \nWellicht is Rias Baarda op dit moment het meest bekend als gitaarvirtuoos bij ’s lands bekendste roept u maar acts The Originals en De Corona’s waarmee hij bijvoorbeeld drie weken in het Holland Heineken House bij de Olympische Spelen te Vancouver heeft mogen optreden. Of je hebt hem gezien op Lowlands met 2nd Place Driver. Maar afgelopen jaar gooide hij enorm hoge ogen met zijn Bowie interpretaties op o.a. Paaspop en Live XL. Als er één pop artiest is wiens verhaal zich leent voor The Story of..\, dan is het David Bowie wel. De personages\, de fantastische muziek\, de legende…
URL:https://www.the-shack.info/agenda-e/the-story-of-david-bowie-alexander-broussard-ft-rias-baarda/
ATTACH;FMTTYPE=image/jpeg:https://www.the-shack.info/wp-content/uploads/2021/06/David-Bowie-the-story-of.jpg
END:VEVENT
END:VCALENDAR