BEGIN:VCALENDAR
VERSION:2.0
PRODID:-//The Shack - ECPv6.15.17//NONSGML v1.0//EN
CALSCALE:GREGORIAN
METHOD:PUBLISH
X-WR-CALNAME:The Shack
X-ORIGINAL-URL:https://www.the-shack.info
X-WR-CALDESC:Evenementen voor The Shack
REFRESH-INTERVAL;VALUE=DURATION:PT1H
X-Robots-Tag:noindex
X-PUBLISHED-TTL:PT1H
BEGIN:VTIMEZONE
TZID:Europe/Amsterdam
BEGIN:DAYLIGHT
TZOFFSETFROM:+0100
TZOFFSETTO:+0200
TZNAME:CEST
DTSTART:20200329T010000
END:DAYLIGHT
BEGIN:STANDARD
TZOFFSETFROM:+0200
TZOFFSETTO:+0100
TZNAME:CET
DTSTART:20201025T010000
END:STANDARD
BEGIN:DAYLIGHT
TZOFFSETFROM:+0100
TZOFFSETTO:+0200
TZNAME:CEST
DTSTART:20210328T010000
END:DAYLIGHT
BEGIN:STANDARD
TZOFFSETFROM:+0200
TZOFFSETTO:+0100
TZNAME:CET
DTSTART:20211031T010000
END:STANDARD
BEGIN:DAYLIGHT
TZOFFSETFROM:+0100
TZOFFSETTO:+0200
TZNAME:CEST
DTSTART:20220327T010000
END:DAYLIGHT
BEGIN:STANDARD
TZOFFSETFROM:+0200
TZOFFSETTO:+0100
TZNAME:CET
DTSTART:20221030T010000
END:STANDARD
END:VTIMEZONE
BEGIN:VEVENT
DTSTART;TZID=Europe/Amsterdam:20210905T160000
DTEND;TZID=Europe/Amsterdam:20210905T190000
DTSTAMP:20260423T023545
CREATED:20210312T121423Z
LAST-MODIFIED:20220601T104036Z
UID:796-1630857600-1630868400@www.the-shack.info
SUMMARY:Tribute to Peter Green
DESCRIPTION:“Albatross” “Need Your Love So Bad”\, Black Magic Woman”\, “Oh Well”\, e.v.a.  Wie kent ze niet\, deze fantastische songs geschreven door  Peter Green\, zanger/gitarist én oprichter van Fleetwood Mac\, die met zijn band eind jaren ‘60  furore maakte. Gitarist/zanger Richard van Bergen en gitarist Will Sophie sloegen de handen ineen om hun held te eren met een tribute-band. Zij worden bijgestaan door een van de beste ritme-sectie van Nederland bestaande uit  drummer en Jody van Ooijen en bassist Roelof Klijn. Tijdens hun show wordt bekend\, maar ook obscuur werk van Fleetwood Mac ten gehore gebracht. Opzwepende gitaar-duels\, soulvolle zang en een meedogenloos groovende ritme-sectie staan garant voor een topmiddag voor de fans van Peter Green en voor de live-muziekliefhebbers in het algemeen. Een tribute aan een topband die een vette stempel heeft weten te drukken op de geschiedenis van de popmuziek.
URL:https://www.the-shack.info/agenda-e/tribute-to-peter-green/
ATTACH;FMTTYPE=image/jpeg:https://www.the-shack.info/wp-content/uploads/2021/03/Peter-Green-Tribute-Richard-Wil-Jody-Roelof.jpg
END:VEVENT
END:VCALENDAR